BEGIN:VCALENDAR
VERSION:2.0
PRODID:-//Sinthema - ECPv6.15.17//NONSGML v1.0//EN
CALSCALE:GREGORIAN
METHOD:PUBLISH
X-WR-CALNAME:Sinthema
X-ORIGINAL-URL:https://sinthema.info
X-WR-CALDESC:Eventi per Sinthema
REFRESH-INTERVAL;VALUE=DURATION:PT1H
X-Robots-Tag:noindex
X-PUBLISHED-TTL:PT1H
BEGIN:VTIMEZONE
TZID:UTC
BEGIN:STANDARD
TZOFFSETFROM:+0000
TZOFFSETTO:+0000
TZNAME:UTC
DTSTART:20190101T000000
END:STANDARD
END:VTIMEZONE
BEGIN:VEVENT
DTSTART;TZID=UTC:20201210T090000
DTEND;TZID=UTC:20201210T130000
DTSTAMP:20260422T223331
CREATED:20200903T110358Z
LAST-MODIFIED:20200903T110358Z
UID:25713-1607590800-1607605200@sinthema.info
SUMMARY:Corso Formazione Specifica Lavoratori rischio medio
DESCRIPTION:Corso da 8 ore\, in modalità videoconferenza \n03/12/2020 dalle ore 9.00 alle ore 13.00 \n10/12/2020 dalle ore 9.00 alle ore 13.00
URL:https://sinthema.info/evento/corso-formazione-specifica-lavoratori-rischio-medio-4/
LOCATION:Videoconferenza\, Italia
CATEGORIES:Formazione,Sicurezza
END:VEVENT
BEGIN:VEVENT
DTSTART;VALUE=DATE:20201210
DTEND;VALUE=DATE:20201211
DTSTAMP:20260422T223331
CREATED:20200903T104607Z
LAST-MODIFIED:20200903T104607Z
UID:25710-1607558400-1607558400@sinthema.info
SUMMARY:Corso Formazione Specifica Lavoratori rischio alto
DESCRIPTION:Corso da 12 ore\, in modalità videoconferenza \n03/12/2020 dalle ore 9.00 alle ore 13.00 \n10/12/2020 dalle ore 9.00 alle ore 13.00 / dalle ore 14.00 alle ore 18.00
URL:https://sinthema.info/evento/corso-formazione-specifica-lavoratori-rischio-alto-2/
CATEGORIES:Formazione,Sicurezza
END:VEVENT
BEGIN:VEVENT
DTSTART;TZID=UTC:20201203T090000
DTEND;TZID=UTC:20201203T160000
DTSTAMP:20260422T223331
CREATED:20200706T121611Z
LAST-MODIFIED:20200706T121611Z
UID:25698-1606986000-1607011200@sinthema.info
SUMMARY:Aggiornamento Preposti
DESCRIPTION:Corso da 6 ore\, in modalità videoconferenza \n03/12/2020 dalle ore 9.00 alle ore 13.00 / dalle ore 14.00 alle ore 16.00
URL:https://sinthema.info/evento/aggiornamento-preposti-2/
LOCATION:Videoconferenza\, Italia
CATEGORIES:Formazione,Sicurezza
END:VEVENT
BEGIN:VEVENT
DTSTART;TZID=UTC:20201203T090000
DTEND;TZID=UTC:20201203T130000
DTSTAMP:20260422T223331
CREATED:20200706T113339Z
LAST-MODIFIED:20200706T113339Z
UID:25682-1606986000-1607000400@sinthema.info
SUMMARY:Corso Formazione Specifica rischio alto
DESCRIPTION:Corso da 12 ore\, in modalità videoconferenza \n03/12/2020 dalle ore 9.00 alle ore 13.00 \n10/12/2020 dalle ore 9.00 alle ore 13.00 / dalle ore 14.00 alle ore 18.00
URL:https://sinthema.info/evento/corso-formazione-specifica-rischio-alto/
LOCATION:Videoconferenza\, Italia
CATEGORIES:Formazione,Sicurezza
END:VEVENT
BEGIN:VEVENT
DTSTART;TZID=UTC:20201203T090000
DTEND;TZID=UTC:20201203T130000
DTSTAMP:20260422T223331
CREATED:20200706T112937Z
LAST-MODIFIED:20200706T112937Z
UID:25680-1606986000-1607000400@sinthema.info
SUMMARY:Corso Formazione Specifica Lavoratori rischio medio
DESCRIPTION:Corso da 8 ore\, in modalità videoconferenza \n03/12/2020 dalle ore 9.00 alle ore 13.00 \n10/12/2020 dalle ore 9.00 alle ore 13.00
URL:https://sinthema.info/evento/corso-formazione-specifica-lavoratori-rischio-medio-2/
LOCATION:Videoconferenza\, Italia
CATEGORIES:Formazione,Sicurezza
END:VEVENT
BEGIN:VEVENT
DTSTART;TZID=UTC:20201203T090000
DTEND;TZID=UTC:20201203T130000
DTSTAMP:20260422T223331
CREATED:20200706T112451Z
LAST-MODIFIED:20200706T112451Z
UID:25678-1606986000-1607000400@sinthema.info
SUMMARY:Corso Formazione Specifica Lavoratori rischio basso
DESCRIPTION:Corso da 4 ore\, in modalità videoconferenza \n03/12/2020 dalle ore 9.00 alle ore 13.00
URL:https://sinthema.info/evento/corso-formazione-specifica-lavoratori-rischio-basso-2/
LOCATION:Videoconferenza\, Italia
CATEGORIES:Formazione,Sicurezza
END:VEVENT
BEGIN:VEVENT
DTSTART;TZID=UTC:20201126T090000
DTEND;TZID=UTC:20201126T130000
DTSTAMP:20260422T223331
CREATED:20200706T112151Z
LAST-MODIFIED:20200706T112151Z
UID:25676-1606381200-1606395600@sinthema.info
SUMMARY:Corso Formazione Generale Lavoratori
DESCRIPTION:Corso da 4 ore\, in modalità videoconferenza \n26/11/2020 dalle ore 9.00 alle ore 13.00
URL:https://sinthema.info/evento/corso-formazione-generale-lavoratori-2/
LOCATION:Videoconferenza\, Italia
CATEGORIES:Formazione,Sicurezza
END:VEVENT
BEGIN:VEVENT
DTSTART;VALUE=DATE:20201112
DTEND;VALUE=DATE:20201113
DTSTAMP:20260422T223331
CREATED:20200903T111028Z
LAST-MODIFIED:20200903T111028Z
UID:25718-1605139200-1605139200@sinthema.info
SUMMARY:Corso RSPP Datore di Lavoro rischio alto
DESCRIPTION:Corso da 48 ore\, in modalità videoconferenza \n08/10/2020 dalle ore 9.00 alle ore 13.00 / dalle ore 14.00 alle ore 18.00 \n15/10/2020 dalle ore 9.00 alle ore 13.00 / dalle ore 14.00 alle ore 18.00 \n22/10/2020 dalle ore 9.00 alle ore 13.00 / dalle ore 14.00 alle ore 18.00 \n29/10/2020 dalle ore 9.00 alle ore 13.00 / dalle ore 14.00 alle ore 18.00 \n05/11/2020 dalle ore 9.00 alle ore 13.00 / dalle ore 14.00 alle ore 18.00 \n12/11/2020 dalle ore 9.00 alle ore 13.00 / dalle ore 14.00 alle ore 18.00
URL:https://sinthema.info/evento/corso-rspp-datore-di-lavoro-rischio-alto-6/
LOCATION:Videoconferenza\, Italia
CATEGORIES:Formazione,Sicurezza
END:VEVENT
BEGIN:VEVENT
DTSTART;VALUE=DATE:20201105
DTEND;VALUE=DATE:20201106
DTSTAMP:20260422T223331
CREATED:20200903T110953Z
LAST-MODIFIED:20200903T110953Z
UID:25717-1604534400-1604534400@sinthema.info
SUMMARY:Corso RSPP Datore di Lavoro rischio alto
DESCRIPTION:Corso da 48 ore\, in modalità videoconferenza \n08/10/2020 dalle ore 9.00 alle ore 13.00 / dalle ore 14.00 alle ore 18.00 \n15/10/2020 dalle ore 9.00 alle ore 13.00 / dalle ore 14.00 alle ore 18.00 \n22/10/2020 dalle ore 9.00 alle ore 13.00 / dalle ore 14.00 alle ore 18.00 \n29/10/2020 dalle ore 9.00 alle ore 13.00 / dalle ore 14.00 alle ore 18.00 \n05/11/2020 dalle ore 9.00 alle ore 13.00 / dalle ore 14.00 alle ore 18.00 \n12/11/2020 dalle ore 9.00 alle ore 13.00 / dalle ore 14.00 alle ore 18.00
URL:https://sinthema.info/evento/corso-rspp-datore-di-lavoro-rischio-alto-5/
LOCATION:Videoconferenza\, Italia
CATEGORIES:Formazione,Sicurezza
END:VEVENT
BEGIN:VEVENT
DTSTART;VALUE=DATE:20201029
DTEND;VALUE=DATE:20201030
DTSTAMP:20260422T223331
CREATED:20200903T111922Z
LAST-MODIFIED:20200903T111922Z
UID:25724-1603929600-1604015999@sinthema.info
SUMMARY:Corso RLS
DESCRIPTION:Corso da 32 ore\, in modalità videoconferenza \n14/10/2020 dalle ore 9.00 alle ore 13.00 / dalle ore 14.00 alle ore 18.00 \n22/10/2020 dalle ore 9.00 alle ore 13.00 / dalle ore 14.00 alle ore 18.00 \n26/10/2020 dalle ore 9.00 alle ore 13.00 / dalle ore 14.00 alle ore 18.00 \n29/10/2020 dalle ore 9.00 alle ore 13.00 / dalle ore 14.00 alle ore 18.00
URL:https://sinthema.info/evento/corso-rls-6/
LOCATION:Videoconferenza\, Italia
CATEGORIES:Formazione,Sicurezza
END:VEVENT
BEGIN:VEVENT
DTSTART;VALUE=DATE:20201029
DTEND;VALUE=DATE:20201030
DTSTAMP:20260422T223331
CREATED:20200903T111534Z
LAST-MODIFIED:20200903T111534Z
UID:25721-1603929600-1604015999@sinthema.info
SUMMARY:Corso RSPP Datore di Lavoro rischio medio
DESCRIPTION:Corso da 32 ore\, in modalità videoconferenza \n08/10/2020 dalle ore 9.00 alle ore 13.00 / dalle ore 14.00 alle ore 18.00 \n15/10/2020 dalle ore 9.00 alle ore 13.00 / dalle ore 14.00 alle ore 18.00 \n22/10/2020 dalle ore 9.00 alle ore 13.00 / dalle ore 14.00 alle ore 18.00 \n29/10/2020 dalle ore 9.00 alle ore 13.00 / dalle ore 14.00 alle ore 18.00
URL:https://sinthema.info/evento/corso-rspp-datore-di-lavoro-rischio-medio-4/
CATEGORIES:Formazione,Sicurezza
END:VEVENT
BEGIN:VEVENT
DTSTART;VALUE=DATE:20201029
DTEND;VALUE=DATE:20201030
DTSTAMP:20260422T223331
CREATED:20200903T110914Z
LAST-MODIFIED:20200903T110914Z
UID:25716-1603929600-1603929600@sinthema.info
SUMMARY:Corso RSPP Datore di Lavoro rischio alto
DESCRIPTION:Corso da 48 ore\, in modalità videoconferenza \n08/10/2020 dalle ore 9.00 alle ore 13.00 / dalle ore 14.00 alle ore 18.00 \n15/10/2020 dalle ore 9.00 alle ore 13.00 / dalle ore 14.00 alle ore 18.00 \n22/10/2020 dalle ore 9.00 alle ore 13.00 / dalle ore 14.00 alle ore 18.00 \n29/10/2020 dalle ore 9.00 alle ore 13.00 / dalle ore 14.00 alle ore 18.00 \n05/11/2020 dalle ore 9.00 alle ore 13.00 / dalle ore 14.00 alle ore 18.00 \n12/11/2020 dalle ore 9.00 alle ore 13.00 / dalle ore 14.00 alle ore 18.00
URL:https://sinthema.info/evento/corso-rspp-datore-di-lavoro-rischio-alto-4/
CATEGORIES:Formazione,Sicurezza
END:VEVENT
BEGIN:VEVENT
DTSTART;TZID=UTC:20201027T090000
DTEND;TZID=UTC:20201027T130000
DTSTAMP:20260422T223331
CREATED:20200706T115117Z
LAST-MODIFIED:20200706T115117Z
UID:25688-1603789200-1603803600@sinthema.info
SUMMARY:Corso Antincendio rischio basso
DESCRIPTION:Corso da 4 ore\, in modalità videoconferenza \n27/10/2020 dalle ore 9.00 alle ore 13.00 \n 
URL:https://sinthema.info/evento/corso-antincendio-rischio-basso-2/
LOCATION:Videoconferenza\, Italia
CATEGORIES:Formazione,Sicurezza
END:VEVENT
BEGIN:VEVENT
DTSTART;VALUE=DATE:20201026
DTEND;VALUE=DATE:20201027
DTSTAMP:20260422T223331
CREATED:20200903T111842Z
LAST-MODIFIED:20200903T111842Z
UID:25723-1603670400-1603756799@sinthema.info
SUMMARY:Corso RLS
DESCRIPTION:Corso da 32 ore\, in modalità videoconferenza \n14/10/2020 dalle ore 9.00 alle ore 13.00 / dalle ore 14.00 alle ore 18.00 \n22/10/2020 dalle ore 9.00 alle ore 13.00 / dalle ore 14.00 alle ore 18.00 \n26/10/2020 dalle ore 9.00 alle ore 13.00 / dalle ore 14.00 alle ore 18.00 \n29/10/2020 dalle ore 9.00 alle ore 13.00 / dalle ore 14.00 alle ore 18.00
URL:https://sinthema.info/evento/corso-rls-5/
LOCATION:Videoconferenza\, Italia
CATEGORIES:Formazione,Sicurezza
END:VEVENT
BEGIN:VEVENT
DTSTART;VALUE=DATE:20201026
DTEND;VALUE=DATE:20201027
DTSTAMP:20260422T223331
CREATED:20200903T105020Z
LAST-MODIFIED:20200903T105020Z
UID:25711-1603670400-1603756799@sinthema.info
SUMMARY:Corso Formazione Specifica Lavoratori rischio alto
DESCRIPTION:Corso da 12 ore\, in modalità videoconferenza \n22/10/2020 dalle ore 9.00 alle ore 13.00 \n26/10/2020 dalle ore 9.00 alle ore 13.00 / dalle ore 14.00 alle ore 18.00
URL:https://sinthema.info/evento/corso-formazione-specifica-lavoratori-rischio-alto-3/
LOCATION:Videoconferenza\, Italia
CATEGORIES:Formazione,Sicurezza
END:VEVENT
BEGIN:VEVENT
DTSTART;TZID=UTC:20201022T090000
DTEND;TZID=UTC:20201022T130000
DTSTAMP:20260422T223331
CREATED:20200903T110134Z
LAST-MODIFIED:20200903T110134Z
UID:25712-1603357200-1603371600@sinthema.info
SUMMARY:Corso Formazione Specifica Lavoratori rischio medio
DESCRIPTION:Corso da 8 ore\, in modalità videoconferenza \n15/10/2020 dalle ore 9.00 alle ore 13.00 \n22/10/2020 dalle ore 9.00 alle ore 13.00
URL:https://sinthema.info/evento/corso-formazione-specifica-lavoratori-rischio-medio-3/
LOCATION:Videoconferenza\, Italia
CATEGORIES:Formazione,Sicurezza
END:VEVENT
BEGIN:VEVENT
DTSTART;TZID=UTC:20201022T090000
DTEND;TZID=UTC:20201022T130000
DTSTAMP:20260422T223331
CREATED:20200706T113122Z
LAST-MODIFIED:20200706T113122Z
UID:25681-1603357200-1603371600@sinthema.info
SUMMARY:Corso Formazione Specifica Lavoratori rischio alto
DESCRIPTION:Corso da 12 ore\, in modalità videoconferenza \n22/10/2020 dalle ore 9.00 alle ore 13.00 \n26/10/2020 dalle ore 9.00 alle ore 13.00 / dalle ore 14.00 alle ore 18.00 \n 
URL:https://sinthema.info/evento/corso-formazione-specifica-lavoratori-rischio-alto/
LOCATION:Videoconferenza\, Italia
CATEGORIES:Formazione,Sicurezza
END:VEVENT
BEGIN:VEVENT
DTSTART;TZID=UTC:20201022T090000
DTEND;TZID=UTC:20201022T130000
DTSTAMP:20260422T223331
CREATED:20200706T112707Z
LAST-MODIFIED:20200706T112707Z
UID:25679-1603357200-1603371600@sinthema.info
SUMMARY:Corso Formazione Specifica Lavoratori rischio medio
DESCRIPTION:Corso da 8 ore\, in modalità videoconferenza \n22/10/2020 dalle ore 9.00 alle ore 13.00 \n26/10/2020 dalle ore 9.00 alle ore 13.00 \n 
URL:https://sinthema.info/evento/corso-formazione-specifica-lavoratori-rischio-medio/
LOCATION:Videoconferenza\, Italia
CATEGORIES:Formazione,Sicurezza
END:VEVENT
BEGIN:VEVENT
DTSTART;TZID=UTC:20201022T090000
DTEND;TZID=UTC:20201022T130000
DTSTAMP:20260422T223331
CREATED:20200706T112322Z
LAST-MODIFIED:20200706T112322Z
UID:25677-1603357200-1603371600@sinthema.info
SUMMARY:Corso Formazione Specifica Lavoratori rischio basso
DESCRIPTION:Corso da 4 ore\, in modalità videoconferenza \n22/10/2020 dalle ore 9.00 alle ore 13.00
URL:https://sinthema.info/evento/corso-formazione-specifica-lavoratori-rischio-basso/
LOCATION:Videoconferenza\, Italia
CATEGORIES:Formazione,Sicurezza
END:VEVENT
BEGIN:VEVENT
DTSTART;VALUE=DATE:20201022
DTEND;VALUE=DATE:20201023
DTSTAMP:20260422T223331
CREATED:20200903T111755Z
LAST-MODIFIED:20200903T111755Z
UID:25722-1603324800-1603411199@sinthema.info
SUMMARY:Corso RLS
DESCRIPTION:Corso da 32 ore\, in modalità videoconferenza \n14/10/2020 dalle ore 9.00 alle ore 13.00 / dalle ore 14.00 alle ore 18.00 \n22/10/2020 dalle ore 9.00 alle ore 13.00 / dalle ore 14.00 alle ore 18.00 \n26/10/2020 dalle ore 9.00 alle ore 13.00 / dalle ore 14.00 alle ore 18.00 \n29/10/2020 dalle ore 9.00 alle ore 13.00 / dalle ore 14.00 alle ore 18.00
URL:https://sinthema.info/evento/corso-rls-4/
LOCATION:Videoconferenza\, Italia
CATEGORIES:Formazione,Sicurezza
END:VEVENT
BEGIN:VEVENT
DTSTART;VALUE=DATE:20201022
DTEND;VALUE=DATE:20201023
DTSTAMP:20260422T223331
CREATED:20200903T111447Z
LAST-MODIFIED:20200903T111447Z
UID:25720-1603324800-1603411199@sinthema.info
SUMMARY:Corso RSPP Datore di Lavoro rischio medio
DESCRIPTION:Corso da 32 ore\, in modalità videoconferenza \n08/10/2020 dalle ore 9.00 alle ore 13.00 / dalle ore 14.00 alle ore 18.00 \n15/10/2020 dalle ore 9.00 alle ore 13.00 / dalle ore 14.00 alle ore 18.00 \n22/10/2020 dalle ore 9.00 alle ore 13.00 / dalle ore 14.00 alle ore 18.00 \n29/10/2020 dalle ore 9.00 alle ore 13.00 / dalle ore 14.00 alle ore 18.00
URL:https://sinthema.info/evento/corso-rspp-datore-di-lavoro-rischio-medio-3/
CATEGORIES:Formazione,Sicurezza
END:VEVENT
BEGIN:VEVENT
DTSTART;VALUE=DATE:20201022
DTEND;VALUE=DATE:20201023
DTSTAMP:20260422T223331
CREATED:20200903T110826Z
LAST-MODIFIED:20200903T110826Z
UID:25715-1603324800-1603324800@sinthema.info
SUMMARY:Corso RSPP Datore di Lavoro rischio alto
DESCRIPTION:Corso da 48 ore\, in modalità videoconferenza \n08/10/2020 dalle ore 9.00 alle ore 13.00 / dalle ore 14.00 alle ore 18.00 \n15/10/2020 dalle ore 9.00 alle ore 13.00 / dalle ore 14.00 alle ore 18.00 \n22/10/2020 dalle ore 9.00 alle ore 13.00 / dalle ore 14.00 alle ore 18.00 \n29/10/2020 dalle ore 9.00 alle ore 13.00 / dalle ore 14.00 alle ore 18.00 \n05/11/2020 dalle ore 9.00 alle ore 13.00 / dalle ore 14.00 alle ore 18.00 \n12/11/2020 dalle ore 9.00 alle ore 13.00 / dalle ore 14.00 alle ore 18.00
URL:https://sinthema.info/evento/corso-rspp-datore-di-lavoro-rischio-alto-3/
CATEGORIES:Formazione,Sicurezza
END:VEVENT
BEGIN:VEVENT
DTSTART;TZID=UTC:20201020T090000
DTEND;TZID=UTC:20201020T160000
DTSTAMP:20260422T223331
CREATED:20200706T120059Z
LAST-MODIFIED:20200706T120059Z
UID:25692-1603184400-1603209600@sinthema.info
SUMMARY:Aggiornamento Primo Soccorso rischio alto
DESCRIPTION:Corso da 6 ore\, in modalità videoconferenza \n20/10/2020 dalle ore 9.00 alle ore 13.00 / dalle ore 14.00 alle ore 16.00
URL:https://sinthema.info/evento/aggiornamento-primo-soccorso-rischio-alto-2/
LOCATION:Videoconferenza\, Italia
CATEGORIES:Formazione,Sicurezza
END:VEVENT
BEGIN:VEVENT
DTSTART;TZID=UTC:20201020T090000
DTEND;TZID=UTC:20201020T130000
DTSTAMP:20260422T223331
CREATED:20200706T115713Z
LAST-MODIFIED:20200706T115713Z
UID:25689-1603184400-1603198800@sinthema.info
SUMMARY:Aggiornamento Primo Soccorso rischio basso
DESCRIPTION:Corso da 4 ore\, in modalità videoconferenza \n20/10/2020 dalle ore 9.00 alle ore 13.00
URL:https://sinthema.info/evento/aggiornamento-primo-soccorso-rischio-basso/
LOCATION:Videoconferenza\, Italia
CATEGORIES:Formazione,Sicurezza
END:VEVENT
BEGIN:VEVENT
DTSTART;TZID=UTC:20201019T090000
DTEND;TZID=UTC:20201020T180000
DTSTAMP:20260422T223331
CREATED:20200706T114503Z
LAST-MODIFIED:20200706T114503Z
UID:25686-1603098000-1603216800@sinthema.info
SUMMARY:Corso Primo Soccorso rischio alto
DESCRIPTION:Corso da 16 ore\, in modalità videoconferenza \n19/10/2020 dalle ore 9.00 alle ore 13.00 / dalle ore 14.00 alle ore 18.00 \n20/10/2020 dalle ore 9.00 alle ore 13.00 / dalle ore 14.00 alle ore 18.00
URL:https://sinthema.info/evento/corso-primo-soccorso-rischio-alto-2/
LOCATION:Videoconferenza\, Italia
CATEGORIES:Formazione,Sicurezza
END:VEVENT
BEGIN:VEVENT
DTSTART;TZID=UTC:20201019T090000
DTEND;TZID=UTC:20201020T130000
DTSTAMP:20260422T223331
CREATED:20200706T114119Z
LAST-MODIFIED:20200706T114119Z
UID:25683-1603098000-1603198800@sinthema.info
SUMMARY:Corso Primo Soccorso rischio basso
DESCRIPTION:Corso da 12 ore\, in modalità videoconferenza \n19/10/2020 dalle ore 9.00 alle ore 13.00 / dalle ore 14.00 alle ore 18.00 \n20/10/2020 dalle ore 9.00 alle ore 13.00 \n 
URL:https://sinthema.info/evento/corso-primo-soccorso-rischio-basso/
LOCATION:Videoconferenza\, Italia
CATEGORIES:Formazione,Sicurezza
END:VEVENT
BEGIN:VEVENT
DTSTART;VALUE=DATE:20201015
DTEND;VALUE=DATE:20201016
DTSTAMP:20260422T223331
CREATED:20200903T112713Z
LAST-MODIFIED:20200903T112713Z
UID:25726-1602720000-1602806399@sinthema.info
SUMMARY:Corso Dirigenti per la Sicurezza
DESCRIPTION:Corso da 16 ore\, in modalità videoconferenza \n08/10/2020 dalle ore 9.00 alle ore 13.00 / dalle ore 14.00 alle ore 18.00 \n15/10/2020 dalle ore 9.00 alle ore 13.00 / dalle ore 14.00 alle ore 18.00
URL:https://sinthema.info/evento/corso-dirigenti-per-la-sicurezza-2/
LOCATION:Videoconferenza\, Italia
CATEGORIES:Formazione,Sicurezza
END:VEVENT
BEGIN:VEVENT
DTSTART;VALUE=DATE:20201015
DTEND;VALUE=DATE:20201016
DTSTAMP:20260422T223331
CREATED:20200903T112332Z
LAST-MODIFIED:20200903T112332Z
UID:25725-1602720000-1602806399@sinthema.info
SUMMARY:Corso RSPP Datore di Lavoro rischio basso
DESCRIPTION:Corso da 16 ore\, in modalità videoconferenza \n08/10/2020 dalle ore 9.00 alle ore 13.00 / dalle ore 14.00 alle ore 18.00 \n15/10/2020 dalle ore 9.00 alle ore 13.00 / dalle ore 14.00 alle ore 18.00
URL:https://sinthema.info/evento/corso-rspp-datore-di-lavoro-rischio-basso-4/
LOCATION:Videoconferenza\, Italia
CATEGORIES:Formazione,Sicurezza
END:VEVENT
BEGIN:VEVENT
DTSTART;VALUE=DATE:20201015
DTEND;VALUE=DATE:20201016
DTSTAMP:20260422T223331
CREATED:20200903T111354Z
LAST-MODIFIED:20200903T111354Z
UID:25719-1602720000-1602806399@sinthema.info
SUMMARY:Corso RSPP Datore di Lavoro rischio medio
DESCRIPTION:Corso da 32 ore\, in modalità videoconferenza \n08/10/2020 dalle ore 9.00 alle ore 13.00 / dalle ore 14.00 alle ore 18.00 \n15/10/2020 dalle ore 9.00 alle ore 13.00 / dalle ore 14.00 alle ore 18.00 \n22/10/2020 dalle ore 9.00 alle ore 13.00 / dalle ore 14.00 alle ore 18.00 \n29/10/2020 dalle ore 9.00 alle ore 13.00 / dalle ore 14.00 alle ore 18.00
URL:https://sinthema.info/evento/corso-rspp-datore-di-lavoro-rischio-medio-2/
CATEGORIES:Formazione,Sicurezza
END:VEVENT
BEGIN:VEVENT
DTSTART;VALUE=DATE:20201015
DTEND;VALUE=DATE:20201016
DTSTAMP:20260422T223331
CREATED:20200903T110735Z
LAST-MODIFIED:20200903T110735Z
UID:25714-1602720000-1602720000@sinthema.info
SUMMARY:Corso RSPP Datore di Lavoro rischio alto
DESCRIPTION:Corso da 48 ore\, in modalità videoconferenza \n08/10/2020 dalle ore 9.00 alle ore 13.00 / dalle ore 14.00 alle ore 18.00 \n15/10/2020 dalle ore 9.00 alle ore 13.00 / dalle ore 14.00 alle ore 18.00 \n22/10/2020 dalle ore 9.00 alle ore 13.00 / dalle ore 14.00 alle ore 18.00 \n29/10/2020 dalle ore 9.00 alle ore 13.00 / dalle ore 14.00 alle ore 18.00 \n05/11/2020 dalle ore 9.00 alle ore 13.00 / dalle ore 14.00 alle ore 18.00 \n12/11/2020 dalle ore 9.00 alle ore 13.00 / dalle ore 14.00 alle ore 18.00
URL:https://sinthema.info/evento/corso-rspp-datore-di-lavoro-rischio-alto-2/
LOCATION:Videoconferenza\, Italia
CATEGORIES:Formazione,Sicurezza
END:VEVENT
END:VCALENDAR