BEGIN:VCALENDAR
VERSION:2.0
PRODID:-//Sinthema - ECPv6.15.17//NONSGML v1.0//EN
CALSCALE:GREGORIAN
METHOD:PUBLISH
X-ORIGINAL-URL:https://sinthema.info
X-WR-CALDESC:Eventi per Sinthema
REFRESH-INTERVAL;VALUE=DURATION:PT1H
X-Robots-Tag:noindex
X-PUBLISHED-TTL:PT1H
BEGIN:VTIMEZONE
TZID:Europe/Rome
BEGIN:DAYLIGHT
TZOFFSETFROM:+0100
TZOFFSETTO:+0200
TZNAME:CEST
DTSTART:20200329T010000
END:DAYLIGHT
BEGIN:STANDARD
TZOFFSETFROM:+0200
TZOFFSETTO:+0100
TZNAME:CET
DTSTART:20201025T010000
END:STANDARD
BEGIN:DAYLIGHT
TZOFFSETFROM:+0100
TZOFFSETTO:+0200
TZNAME:CEST
DTSTART:20210328T010000
END:DAYLIGHT
BEGIN:STANDARD
TZOFFSETFROM:+0200
TZOFFSETTO:+0100
TZNAME:CET
DTSTART:20211031T010000
END:STANDARD
BEGIN:DAYLIGHT
TZOFFSETFROM:+0100
TZOFFSETTO:+0200
TZNAME:CEST
DTSTART:20220327T010000
END:DAYLIGHT
BEGIN:STANDARD
TZOFFSETFROM:+0200
TZOFFSETTO:+0100
TZNAME:CET
DTSTART:20221030T010000
END:STANDARD
END:VTIMEZONE
BEGIN:VTIMEZONE
TZID:UTC
BEGIN:STANDARD
TZOFFSETFROM:+0000
TZOFFSETTO:+0000
TZNAME:UTC
DTSTART:20190101T000000
END:STANDARD
END:VTIMEZONE
BEGIN:VEVENT
DTSTART;VALUE=DATE:20210202
DTEND;VALUE=DATE:20210203
DTSTAMP:20260422T181058
CREATED:20210125T074850Z
LAST-MODIFIED:20210125T074850Z
UID:26021-1612224000-1612310399@sinthema.info
SUMMARY:Corso RLS
DESCRIPTION:Corso da 32 ore\, in modalità videoconferenza. \n02/02/2021 dalle ore 9.00 alle ore 13.00 / dalle ore 14.00 alle ore 18.00\n09/02/2021 dalle ore 9.00 alle ore 13.00 / dalle ore 14.00 alle ore 18.00\n16/02/2021 dalle ore 9.00 alle ore 13.00 / dalle ore 14.00 alle ore 18.00\n23/02/2021 dalle ore 9.00 alle ore 13.00 / dalle ore 14.00 alle ore 18.00 \n 
URL:https://sinthema.info/evento/corso-rls-7/
LOCATION:Videoconferenza\, Italia
CATEGORIES:Formazione,Sicurezza
END:VEVENT
BEGIN:VEVENT
DTSTART;TZID=Europe/Rome:20210128T110000
DTEND;TZID=Europe/Rome:20210128T130000
DTSTAMP:20260422T181058
CREATED:20210125T154805Z
LAST-MODIFIED:20210125T154805Z
UID:26304-1611831600-1611838800@sinthema.info
SUMMARY:Aggiornamento Antincendio rischio basso
DESCRIPTION:Corso da 2 ore\, in modalità videoconferenza. \n28/01/2021 dalle ore 11.00 alle ore 13.00
URL:https://sinthema.info/evento/aggiornamento-antincendio-rischio-basso/
LOCATION:Videoconferenza\, Italia
CATEGORIES:Formazione,Sicurezza
END:VEVENT
BEGIN:VEVENT
DTSTART;TZID=Europe/Rome:20210128T090000
DTEND;TZID=Europe/Rome:20210128T130000
DTSTAMP:20260422T181058
CREATED:20210125T150411Z
LAST-MODIFIED:20210125T150411Z
UID:26252-1611824400-1611838800@sinthema.info
SUMMARY:Corso Antincendio rischio basso
DESCRIPTION:Corso da 4 ore\, in modalità videoconferenza. \n28/01/2021 dalle ore 9.00 alle ore 13.00
URL:https://sinthema.info/evento/corso-antincendio-rischio-basso-3/
LOCATION:Videoconferenza\, Italia
CATEGORIES:Formazione,Sicurezza
END:VEVENT
BEGIN:VEVENT
DTSTART;TZID=Europe/Rome:20210127T090000
DTEND;TZID=Europe/Rome:20210127T160000
DTSTAMP:20260422T181058
CREATED:20210125T153044Z
LAST-MODIFIED:20210125T153044Z
UID:26265-1611738000-1611763200@sinthema.info
SUMMARY:Aggiornamento Primo Soccorso rischio alto
DESCRIPTION:Corso da 6 ore\, in modalità videoconferenza. \n27/01/2021 dalle ore 9.00 alle ore 13.00 / dalle ore 14.00 alle ore 16.00
URL:https://sinthema.info/evento/aggiornamento-primo-soccorso-rischio-alto-3/
LOCATION:Videoconferenza\, Italia
CATEGORIES:Formazione,Sicurezza
END:VEVENT
BEGIN:VEVENT
DTSTART;TZID=Europe/Rome:20210127T090000
DTEND;TZID=Europe/Rome:20210127T130000
DTSTAMP:20260422T181058
CREATED:20210125T152918Z
LAST-MODIFIED:20210125T152922Z
UID:26262-1611738000-1611752400@sinthema.info
SUMMARY:Aggiornamento Primo Soccorso rischio basso
DESCRIPTION:Corso da 4 ore\, in modalità in presenza. \n27/01/2021 dalle ore 9.00 alle ore 13.00
URL:https://sinthema.info/evento/aggiornamento-primo-soccorso-rischio-basso-3/
LOCATION:SEDE\, Via XX Settembre 8/20 - 5° piano\, Genova\, Italy
CATEGORIES:Formazione,Sicurezza
END:VEVENT
BEGIN:VEVENT
DTSTART;VALUE=DATE:20210127
DTEND;VALUE=DATE:20210128
DTSTAMP:20260422T181058
CREATED:20210125T150106Z
LAST-MODIFIED:20210125T150106Z
UID:26246-1611705600-1611791999@sinthema.info
SUMMARY:Primo Soccorso rischio alto
DESCRIPTION:Corso da 16 ore\, in modalità mista. \n25/01/2021 dalle ore 9.00 alle ore 13.00 (videoconferenza)\n26/01/2021 dalle ore 9.00 alle ore 13.00  (videoconferenza)\n27/01/2021 dalle ore 9.00 alle ore 13.00 / dalle ore 14.00 alle ore 18.00 (in presenza)
URL:https://sinthema.info/evento/primo-soccorso-rischio-alto-3/
LOCATION:SEDE\, Via XX Settembre 8/20 - 5° piano\, Genova\, Italy
CATEGORIES:Formazione,Sicurezza
END:VEVENT
BEGIN:VEVENT
DTSTART;TZID=Europe/Rome:20210126T090000
DTEND;TZID=Europe/Rome:20210126T130000
DTSTAMP:20260422T181058
CREATED:20210125T150043Z
LAST-MODIFIED:20210125T150043Z
UID:26244-1611651600-1611666000@sinthema.info
SUMMARY:Primo Soccorso rischio alto
DESCRIPTION:Corso da 16 ore\, in modalità mista. \n25/01/2021 dalle ore 9.00 alle ore 13.00 (videoconferenza)\n26/01/2021 dalle ore 9.00 alle ore 13.00  (videoconferenza)\n27/01/2021 dalle ore 9.00 alle ore 13.00 / dalle ore 14.00 alle ore 18.00 (in presenza)
URL:https://sinthema.info/evento/primo-soccorso-rischio-alto-2/
LOCATION:Videoconferenza\, Italia
CATEGORIES:Formazione,Sicurezza
END:VEVENT
BEGIN:VEVENT
DTSTART;TZID=Europe/Rome:20210126T090000
DTEND;TZID=Europe/Rome:20210126T130000
DTSTAMP:20260422T181058
CREATED:20210125T145755Z
LAST-MODIFIED:20210125T145913Z
UID:26236-1611651600-1611666000@sinthema.info
SUMMARY:Primo Soccorso rischio basso
DESCRIPTION:Corso da 12 ore\, in modalità mista. \n25/01/2021 dalle ore 9.00 alle ore 13.00 (videoconferenza)\n26/01/2021 dalle ore 9.00 alle ore 13.00  (videoconferenza)\n27/01/2021 dalle ore 9.00 alle ore 13.00 (in presenza)
URL:https://sinthema.info/evento/primo-soccorso-rischio-basso-2/
LOCATION:Videoconferenza\, Italia
CATEGORIES:Formazione,Sicurezza
END:VEVENT
BEGIN:VEVENT
DTSTART;TZID=Europe/Rome:20210125T090000
DTEND;TZID=Europe/Rome:20210125T160000
DTSTAMP:20260422T181058
CREATED:20210125T160607Z
LAST-MODIFIED:20210125T160607Z
UID:26334-1611565200-1611590400@sinthema.info
SUMMARY:Aggiornamento RSPP Datore di Lavoro rischio basso
DESCRIPTION:Corso da 6 ore\, in modalità videoconferenza. \n25/03/2021 dalle ore 9.00 alle ore 13.00 / dalle ore 14.00 alle ore 16.00
URL:https://sinthema.info/evento/aggiornamento-rspp-datore-di-lavoro-rischio-basso-4/
LOCATION:Videoconferenza\, Italia
CATEGORIES:Formazione,Sicurezza
END:VEVENT
BEGIN:VEVENT
DTSTART;TZID=Europe/Rome:20210125T090000
DTEND;TZID=Europe/Rome:20210125T130000
DTSTAMP:20260422T181058
CREATED:20210125T150015Z
LAST-MODIFIED:20210125T150015Z
UID:26242-1611565200-1611579600@sinthema.info
SUMMARY:Primo Soccorso rischio alto
DESCRIPTION:Corso da 16 ore\, in modalità mista. \n25/01/2021 dalle ore 9.00 alle ore 13.00 (videoconferenza)\n26/01/2021 dalle ore 9.00 alle ore 13.00  (videoconferenza)\n27/01/2021 dalle ore 9.00 alle ore 13.00 / dalle ore 14.00 alle ore 18.00 (in presenza)
URL:https://sinthema.info/evento/primo-soccorso-rischio-alto/
LOCATION:Videoconferenza\, Italia
CATEGORIES:Formazione,Sicurezza
END:VEVENT
BEGIN:VEVENT
DTSTART;TZID=Europe/Rome:20210125T090000
DTEND;TZID=Europe/Rome:20210125T130000
DTSTAMP:20260422T181058
CREATED:20210125T145659Z
LAST-MODIFIED:20210125T145851Z
UID:26234-1611565200-1611579600@sinthema.info
SUMMARY:Primo Soccorso rischio basso
DESCRIPTION:Corso da 12 ore\, in modalità mista. \n25/01/2021 dalle ore 9.00 alle ore 13.00 (videoconferenza)\n26/01/2021 dalle ore 9.00 alle ore 13.00  (videoconferenza)\n27/01/2021 dalle ore 9.00 alle ore 13.00 (in presenza)
URL:https://sinthema.info/evento/primo-soccorso-rischio-basso/
LOCATION:Videoconferenza\, Italia
CATEGORIES:Formazione,Sicurezza
END:VEVENT
BEGIN:VEVENT
DTSTART;TZID=UTC:20201215T090000
DTEND;TZID=UTC:20201215T160000
DTSTAMP:20260422T181058
CREATED:20200706T115945Z
LAST-MODIFIED:20200706T115945Z
UID:25691-1608022800-1608048000@sinthema.info
SUMMARY:Aggiornamento Primo Soccorso rischio alto
DESCRIPTION:Corso da 6 ore\, in modalità videoconferenza \n15/12/2020 dalle ore 9.00 alle ore 13.00 / dalle ore 14.00 alle ore 16.00
URL:https://sinthema.info/evento/aggiornamento-primo-soccorso-rischio-alto/
LOCATION:Videoconferenza\, Italia
CATEGORIES:Formazione,Sicurezza
END:VEVENT
BEGIN:VEVENT
DTSTART;TZID=UTC:20201215T090000
DTEND;TZID=UTC:20201215T130000
DTSTAMP:20260422T181058
CREATED:20200706T115812Z
LAST-MODIFIED:20200706T115812Z
UID:25690-1608022800-1608037200@sinthema.info
SUMMARY:Aggiornamento Primo Soccorso rischio basso
DESCRIPTION:Corso da 4 ore\, in modalità videoconferenza \n15/12/2020 dalle ore 9.00 alle ore 13.00
URL:https://sinthema.info/evento/aggiornamento-primo-soccorso-rischio-basso-2/
LOCATION:Videoconferenza\, Italia
CATEGORIES:Formazione,Sicurezza
END:VEVENT
BEGIN:VEVENT
DTSTART;TZID=UTC:20201214T090000
DTEND;TZID=UTC:20201215T180000
DTSTAMP:20260422T181058
CREATED:20200706T114359Z
LAST-MODIFIED:20200706T114359Z
UID:25685-1607936400-1608055200@sinthema.info
SUMMARY:Corso Primo Soccorso rischio alto
DESCRIPTION:Corso da 16 ore\, in modalità videoconferenza \n14/12/2020 dalle ore 9.00 alle ore 13.00 / dalle ore 14.00 alle ore 18.00 \n15/12/2020 dalle ore 9.00 alle ore 13.00 / dalle ore 14.00 alle ore 18.00
URL:https://sinthema.info/evento/corso-primo-soccorso-rischio-alto/
LOCATION:Videoconferenza\, Italia
CATEGORIES:Formazione,Sicurezza
END:VEVENT
BEGIN:VEVENT
DTSTART;TZID=UTC:20201214T090000
DTEND;TZID=UTC:20201215T130000
DTSTAMP:20260422T181058
CREATED:20200706T114233Z
LAST-MODIFIED:20200706T114233Z
UID:25684-1607936400-1608037200@sinthema.info
SUMMARY:Corso Primo Soccorso rischio basso
DESCRIPTION:Corso da 12 ore\, in modalità videoconferenza \n14/12/2020 dalle ore 9.00 alle ore 13.00 / dalle ore 14.00 alle ore 18.00 \n15/12/2020 dalle ore 9.00 alle ore 13.00
URL:https://sinthema.info/evento/corso-primo-soccorso-rischio-basso-2/
LOCATION:Videoconferenza\, Italia
CATEGORIES:Formazione,Sicurezza
END:VEVENT
BEGIN:VEVENT
DTSTART;TZID=UTC:20201213T090000
DTEND;TZID=UTC:20201214T160000
DTSTAMP:20260422T181058
CREATED:20200706T124300Z
LAST-MODIFIED:20200706T124300Z
UID:25707-1607850000-1607961600@sinthema.info
SUMMARY:Aggiornamento RSPP Datore di Lavoro rischio alto
DESCRIPTION:Corso da 14 ore\, in modalità videoconferenza \n13/12/2020 dalle ore 9.00 alle ore 13.00 / dalle ore 14.00 alle ore 18.00 \n14/12/2020 dalle ore 9.00 alle ore 13.00 / dalle ore 14.00 alle ore 16.00
URL:https://sinthema.info/evento/aggiornamento-rspp-datore-di-lavoro-rischio-alto/
LOCATION:Videoconferenza\, Italia
CATEGORIES:Formazione,Sicurezza
END:VEVENT
BEGIN:VEVENT
DTSTART;TZID=UTC:20201213T090000
DTEND;TZID=UTC:20201214T110000
DTSTAMP:20260422T181058
CREATED:20200706T124128Z
LAST-MODIFIED:20200706T124128Z
UID:25706-1607850000-1607943600@sinthema.info
SUMMARY:Aggiornamento RSPP Datore di Lavoro rischio medio
DESCRIPTION:Corso da 10 ore\, in modalità videoconferenza \n13/12/2020 dalle ore 9.00 alle ore 13.00 / dalle ore 14.00 alle ore 18.00 \n14/12/2020 dalle ore 9.00 alle ore 11.00
URL:https://sinthema.info/evento/aggiornamento-rspp-datore-di-lavoro-rischio-medio-2/
LOCATION:Videoconferenza\, Italia
CATEGORIES:Formazione,Sicurezza
END:VEVENT
BEGIN:VEVENT
DTSTART;TZID=UTC:20201213T090000
DTEND;TZID=UTC:20201213T160000
DTSTAMP:20260422T181058
CREATED:20200706T123833Z
LAST-MODIFIED:20200706T123833Z
UID:25704-1607850000-1607875200@sinthema.info
SUMMARY:Aggiornamento RSPP Datore di Lavoro rischio basso
DESCRIPTION:Corso da 6 ore\, in modalità videoconferenza \n13/12/2020 dalle ore 9.00 alle ore 13.00 / dalle ore 14.00 alle ore 16.00
URL:https://sinthema.info/evento/aggiornamento-rspp-datore-di-lavoro-rischio-basso-2/
LOCATION:Videoconferenza\, Italia
CATEGORIES:Formazione,Sicurezza
END:VEVENT
BEGIN:VEVENT
DTSTART;TZID=UTC:20201213T090000
DTEND;TZID=UTC:20201213T160000
DTSTAMP:20260422T181058
CREATED:20200706T123216Z
LAST-MODIFIED:20200706T123216Z
UID:25701-1607850000-1607875200@sinthema.info
SUMMARY:Aggiornamento Lavoratori
DESCRIPTION:Corso da 6 ore\, in modalità videoconferenza \n13/12/2020 dalle ore 9.00 alle ore 13.00 / dalle ore 14.00 alle ore 16.00
URL:https://sinthema.info/evento/aggiornamento-lavoratori/
LOCATION:Videoconferenza\, Italia
CATEGORIES:Formazione,Sicurezza
END:VEVENT
BEGIN:VEVENT
DTSTART;TZID=UTC:20201213T090000
DTEND;TZID=UTC:20201213T160000
DTSTAMP:20260422T181058
CREATED:20200706T123057Z
LAST-MODIFIED:20200706T123057Z
UID:25700-1607850000-1607875200@sinthema.info
SUMMARY:Aggiornamento Dirigenti per la Sicurezza
DESCRIPTION:Corso da 6 ore\, in modalità videoconferenza \n13/12/2020 dalle ore 9.00 alle ore 13.00 / dalle ore 14.00 alle ore 16.00
URL:https://sinthema.info/evento/aggiornamento-dirigenti-per-la-sicurezza-2/
LOCATION:Videoconferenza\, Italia
CATEGORIES:Formazione,Sicurezza
END:VEVENT
BEGIN:VEVENT
DTSTART;TZID=UTC:20201213T090000
DTEND;TZID=UTC:20201213T130000
DTSTAMP:20260422T181058
CREATED:20200903T114120Z
LAST-MODIFIED:20200903T114120Z
UID:25728-1607850000-1607864400@sinthema.info
SUMMARY:Aggiornamento RLS (Aziende < 15 dipendenti)
DESCRIPTION:Corso da 4 ore\, in modalità videoconferenza \n13/12/2020 dalle ore 9.00 alle ore 13.00
URL:https://sinthema.info/evento/aggiornamento-rls-aziende-15-dipendenti/
LOCATION:Videoconferenza\, Italia
CATEGORIES:Formazione,Sicurezza
END:VEVENT
BEGIN:VEVENT
DTSTART;TZID=UTC:20201213T090000
DTEND;TZID=UTC:20201213T130000
DTSTAMP:20260422T181058
CREATED:20200706T120441Z
LAST-MODIFIED:20200706T120441Z
UID:25694-1607850000-1607864400@sinthema.info
SUMMARY:Aggiornamento RLS (Aziende < 50 dipendenti)
DESCRIPTION:Corso da 4 ore\, in modalità videoconferenza \n13/12/2020 dalle ore 9.00 alle ore 13.00
URL:https://sinthema.info/evento/aggiornamento-rls-aziende-50-dipendenti-2/
LOCATION:Videoconferenza\, Italia
CATEGORIES:Formazione,Sicurezza
END:VEVENT
BEGIN:VEVENT
DTSTART;VALUE=DATE:20201213
DTEND;VALUE=DATE:20201214
DTSTAMP:20260422T181058
CREATED:20200903T083410Z
LAST-MODIFIED:20200903T083410Z
UID:25709-1607817600-1607903999@sinthema.info
SUMMARY:Aggiornamento Preposti
DESCRIPTION:Corso da 6 ore\, in modalità videoconferenza \n13/12/2020 dalle ore 9.00 alle ore 13.00 / dalle ore 14.00 alle ore 16.00
URL:https://sinthema.info/evento/aggiornamento-preposti-3/
CATEGORIES:Formazione,Sicurezza
END:VEVENT
BEGIN:VEVENT
DTSTART;VALUE=DATE:20201213
DTEND;VALUE=DATE:20201214
DTSTAMP:20260422T181058
CREATED:20200706T121202Z
LAST-MODIFIED:20201211T184220Z
UID:25696-1607817600-1607903999@sinthema.info
SUMMARY:Aggiornamento RLS (Aziende > 50 dipendenti)
DESCRIPTION:Corso da 8 ore\, in modalità videoconferenza \n13/12/2020 dalle ore 9.00 alle ore 13.00 / dalle ore 14.00 alle ore 18.00
URL:https://sinthema.info/evento/aggiornamento-rls-aziende-50-dipendenti-4/
CATEGORIES:Formazione,Sicurezza
END:VEVENT
BEGIN:VEVENT
DTSTART;TZID=UTC:20201210T090000
DTEND;TZID=UTC:20201210T130000
DTSTAMP:20260422T181058
CREATED:20200903T110358Z
LAST-MODIFIED:20200903T110358Z
UID:25713-1607590800-1607605200@sinthema.info
SUMMARY:Corso Formazione Specifica Lavoratori rischio medio
DESCRIPTION:Corso da 8 ore\, in modalità videoconferenza \n03/12/2020 dalle ore 9.00 alle ore 13.00 \n10/12/2020 dalle ore 9.00 alle ore 13.00
URL:https://sinthema.info/evento/corso-formazione-specifica-lavoratori-rischio-medio-4/
LOCATION:Videoconferenza\, Italia
CATEGORIES:Formazione,Sicurezza
END:VEVENT
BEGIN:VEVENT
DTSTART;VALUE=DATE:20201210
DTEND;VALUE=DATE:20201211
DTSTAMP:20260422T181058
CREATED:20200903T104607Z
LAST-MODIFIED:20200903T104607Z
UID:25710-1607558400-1607558400@sinthema.info
SUMMARY:Corso Formazione Specifica Lavoratori rischio alto
DESCRIPTION:Corso da 12 ore\, in modalità videoconferenza \n03/12/2020 dalle ore 9.00 alle ore 13.00 \n10/12/2020 dalle ore 9.00 alle ore 13.00 / dalle ore 14.00 alle ore 18.00
URL:https://sinthema.info/evento/corso-formazione-specifica-lavoratori-rischio-alto-2/
CATEGORIES:Formazione,Sicurezza
END:VEVENT
BEGIN:VEVENT
DTSTART;TZID=UTC:20201203T090000
DTEND;TZID=UTC:20201203T160000
DTSTAMP:20260422T181058
CREATED:20200706T121611Z
LAST-MODIFIED:20200706T121611Z
UID:25698-1606986000-1607011200@sinthema.info
SUMMARY:Aggiornamento Preposti
DESCRIPTION:Corso da 6 ore\, in modalità videoconferenza \n03/12/2020 dalle ore 9.00 alle ore 13.00 / dalle ore 14.00 alle ore 16.00
URL:https://sinthema.info/evento/aggiornamento-preposti-2/
LOCATION:Videoconferenza\, Italia
CATEGORIES:Formazione,Sicurezza
END:VEVENT
BEGIN:VEVENT
DTSTART;TZID=UTC:20201203T090000
DTEND;TZID=UTC:20201203T130000
DTSTAMP:20260422T181058
CREATED:20200706T113339Z
LAST-MODIFIED:20200706T113339Z
UID:25682-1606986000-1607000400@sinthema.info
SUMMARY:Corso Formazione Specifica rischio alto
DESCRIPTION:Corso da 12 ore\, in modalità videoconferenza \n03/12/2020 dalle ore 9.00 alle ore 13.00 \n10/12/2020 dalle ore 9.00 alle ore 13.00 / dalle ore 14.00 alle ore 18.00
URL:https://sinthema.info/evento/corso-formazione-specifica-rischio-alto/
LOCATION:Videoconferenza\, Italia
CATEGORIES:Formazione,Sicurezza
END:VEVENT
BEGIN:VEVENT
DTSTART;TZID=UTC:20201203T090000
DTEND;TZID=UTC:20201203T130000
DTSTAMP:20260422T181058
CREATED:20200706T112937Z
LAST-MODIFIED:20200706T112937Z
UID:25680-1606986000-1607000400@sinthema.info
SUMMARY:Corso Formazione Specifica Lavoratori rischio medio
DESCRIPTION:Corso da 8 ore\, in modalità videoconferenza \n03/12/2020 dalle ore 9.00 alle ore 13.00 \n10/12/2020 dalle ore 9.00 alle ore 13.00
URL:https://sinthema.info/evento/corso-formazione-specifica-lavoratori-rischio-medio-2/
LOCATION:Videoconferenza\, Italia
CATEGORIES:Formazione,Sicurezza
END:VEVENT
BEGIN:VEVENT
DTSTART;TZID=UTC:20201203T090000
DTEND;TZID=UTC:20201203T130000
DTSTAMP:20260422T181058
CREATED:20200706T112451Z
LAST-MODIFIED:20200706T112451Z
UID:25678-1606986000-1607000400@sinthema.info
SUMMARY:Corso Formazione Specifica Lavoratori rischio basso
DESCRIPTION:Corso da 4 ore\, in modalità videoconferenza \n03/12/2020 dalle ore 9.00 alle ore 13.00
URL:https://sinthema.info/evento/corso-formazione-specifica-lavoratori-rischio-basso-2/
LOCATION:Videoconferenza\, Italia
CATEGORIES:Formazione,Sicurezza
END:VEVENT
END:VCALENDAR