BEGIN:VCALENDAR
VERSION:2.0
PRODID:-//Sinthema - ECPv6.15.17//NONSGML v1.0//EN
CALSCALE:GREGORIAN
METHOD:PUBLISH
X-ORIGINAL-URL:https://sinthema.info
X-WR-CALDESC:Eventi per Sinthema
REFRESH-INTERVAL;VALUE=DURATION:PT1H
X-Robots-Tag:noindex
X-PUBLISHED-TTL:PT1H
BEGIN:VTIMEZONE
TZID:Europe/Rome
BEGIN:DAYLIGHT
TZOFFSETFROM:+0100
TZOFFSETTO:+0200
TZNAME:CEST
DTSTART:20200329T010000
END:DAYLIGHT
BEGIN:STANDARD
TZOFFSETFROM:+0200
TZOFFSETTO:+0100
TZNAME:CET
DTSTART:20201025T010000
END:STANDARD
BEGIN:DAYLIGHT
TZOFFSETFROM:+0100
TZOFFSETTO:+0200
TZNAME:CEST
DTSTART:20210328T010000
END:DAYLIGHT
BEGIN:STANDARD
TZOFFSETFROM:+0200
TZOFFSETTO:+0100
TZNAME:CET
DTSTART:20211031T010000
END:STANDARD
BEGIN:DAYLIGHT
TZOFFSETFROM:+0100
TZOFFSETTO:+0200
TZNAME:CEST
DTSTART:20220327T010000
END:DAYLIGHT
BEGIN:STANDARD
TZOFFSETFROM:+0200
TZOFFSETTO:+0100
TZNAME:CET
DTSTART:20221030T010000
END:STANDARD
END:VTIMEZONE
BEGIN:VEVENT
DTSTART;TZID=Europe/Rome:20210323T090000
DTEND;TZID=Europe/Rome:20210323T130000
DTSTAMP:20260420T102358
CREATED:20210125T132304Z
LAST-MODIFIED:20210125T132304Z
UID:26184-1616490000-1616504400@sinthema.info
SUMMARY:Formazione Generale Lavoratori
DESCRIPTION:Corso da 4 ore\, in modalità videoconferenza. \n23/03/2021 dalle ore 9.00 alle ore 13.00
URL:https://sinthema.info/evento/formazione-generale-lavoratori-2/
LOCATION:Videoconferenza\, Italia
CATEGORIES:Formazione,Sicurezza
END:VEVENT
BEGIN:VEVENT
DTSTART;VALUE=DATE:20210309
DTEND;VALUE=DATE:20210310
DTSTAMP:20260420T102358
CREATED:20210125T085151Z
LAST-MODIFIED:20210125T085151Z
UID:26120-1615248000-1615334399@sinthema.info
SUMMARY:Corso RSPP Datore di Lavoro rischio alto
DESCRIPTION:Corso da 48 ore\, in modalità videoconferenza. \n02/02/2021 dalle ore 9.00 alle ore 13.00 / dalle ore 14.00 alle ore 18.00\n09/02/2021 dalle ore 9.00 alle ore 13.00 / dalle ore 14.00 alle ore 18.00\n16/02/2021 dalle ore 9.00 alle ore 13.00 / dalle ore 14.00 alle ore 18.00\n23/02/2021 dalle ore 9.00 alle ore 13.00 / dalle ore 14.00 alle ore 18.00\n02/03/2021 dalle ore 9.00 alle ore 13.00 / dalle ore 14.00 alle ore 18.00\n09/03/2021 dalle ore 9.00 alle ore 13.00 / dalle ore 14.00 alle ore 18.00
URL:https://sinthema.info/evento/corso-rspp-datore-di-lavoro-rischio-alto-13/
LOCATION:Videoconferenza\, Italia
CATEGORIES:Formazione,Sicurezza
END:VEVENT
BEGIN:VEVENT
DTSTART;VALUE=DATE:20210302
DTEND;VALUE=DATE:20210303
DTSTAMP:20260420T102358
CREATED:20210125T085125Z
LAST-MODIFIED:20210125T085125Z
UID:26118-1614643200-1614729599@sinthema.info
SUMMARY:Corso RSPP Datore di Lavoro rischio alto
DESCRIPTION:Corso da 48 ore\, in modalità videoconferenza. \n02/02/2021 dalle ore 9.00 alle ore 13.00 / dalle ore 14.00 alle ore 18.00\n09/02/2021 dalle ore 9.00 alle ore 13.00 / dalle ore 14.00 alle ore 18.00\n16/02/2021 dalle ore 9.00 alle ore 13.00 / dalle ore 14.00 alle ore 18.00\n23/02/2021 dalle ore 9.00 alle ore 13.00 / dalle ore 14.00 alle ore 18.00\n02/03/2021 dalle ore 9.00 alle ore 13.00 / dalle ore 14.00 alle ore 18.00\n09/03/2021 dalle ore 9.00 alle ore 13.00 / dalle ore 14.00 alle ore 18.00
URL:https://sinthema.info/evento/corso-rspp-datore-di-lavoro-rischio-alto-12/
LOCATION:Videoconferenza\, Italia
CATEGORIES:Formazione,Sicurezza
END:VEVENT
BEGIN:VEVENT
DTSTART;VALUE=DATE:20210226
DTEND;VALUE=DATE:20210227
DTSTAMP:20260420T102358
CREATED:20210125T150305Z
LAST-MODIFIED:20210125T150305Z
UID:26250-1614297600-1614383999@sinthema.info
SUMMARY:Formazione Responsabile Gestione Amianto
DESCRIPTION:Corso da 16 ore\, in modalità in presenza. \n25/02/2021 dalle ore 9.00 alle ore 13.00 / dalle ore 14.00 alle ore 18.00\n26/02/2021 dalle ore 9.00 alle ore 13.00 / dalle ore 14.00 alle ore 18.00
URL:https://sinthema.info/evento/formazione-responsabile-gestione-amianto-2/
LOCATION:SEDE\, Via XX Settembre 8/20 - 5° piano\, Genova\, Italy
CATEGORIES:Formazione,Sicurezza
END:VEVENT
BEGIN:VEVENT
DTSTART;VALUE=DATE:20210225
DTEND;VALUE=DATE:20210226
DTSTAMP:20260420T102358
CREATED:20210125T150235Z
LAST-MODIFIED:20210125T150235Z
UID:26248-1614211200-1614297599@sinthema.info
SUMMARY:Formazione Responsabile Gestione Amianto
DESCRIPTION:Corso da 16 ore\, in modalità in presenza. \n25/02/2021 dalle ore 9.00 alle ore 13.00 / dalle ore 14.00 alle ore 18.00\n26/02/2021 dalle ore 9.00 alle ore 13.00 / dalle ore 14.00 alle ore 18.00
URL:https://sinthema.info/evento/formazione-responsabile-gestione-amianto/
LOCATION:SEDE\, Via XX Settembre 8/20 - 5° piano\, Genova\, Italy
CATEGORIES:Formazione,Sicurezza
END:VEVENT
BEGIN:VEVENT
DTSTART;VALUE=DATE:20210223
DTEND;VALUE=DATE:20210224
DTSTAMP:20260420T102358
CREATED:20210125T085047Z
LAST-MODIFIED:20210125T085047Z
UID:26116-1614038400-1614124799@sinthema.info
SUMMARY:Corso RSPP Datore di Lavoro rischio alto
DESCRIPTION:Corso da 48 ore\, in modalità videoconferenza. \n02/02/2021 dalle ore 9.00 alle ore 13.00 / dalle ore 14.00 alle ore 18.00\n09/02/2021 dalle ore 9.00 alle ore 13.00 / dalle ore 14.00 alle ore 18.00\n16/02/2021 dalle ore 9.00 alle ore 13.00 / dalle ore 14.00 alle ore 18.00\n23/02/2021 dalle ore 9.00 alle ore 13.00 / dalle ore 14.00 alle ore 18.00\n02/03/2021 dalle ore 9.00 alle ore 13.00 / dalle ore 14.00 alle ore 18.00\n09/03/2021 dalle ore 9.00 alle ore 13.00 / dalle ore 14.00 alle ore 18.00
URL:https://sinthema.info/evento/corso-rspp-datore-di-lavoro-rischio-alto-11/
LOCATION:Videoconferenza\, Italia
CATEGORIES:Formazione,Sicurezza
END:VEVENT
BEGIN:VEVENT
DTSTART;VALUE=DATE:20210223
DTEND;VALUE=DATE:20210224
DTSTAMP:20260420T102358
CREATED:20210125T082606Z
LAST-MODIFIED:20210125T082606Z
UID:26083-1614038400-1614124799@sinthema.info
SUMMARY:Corso RSPP Datore di Lavoro rischio medio
DESCRIPTION:Corso da 32 ore\, in modalità videoconferenza. \n02/02/2021 dalle ore 9.00 alle ore 13.00 / dalle ore 14.00 alle ore 18.00\n09/02/2021 dalle ore 9.00 alle ore 13.00 / dalle ore 14.00 alle ore 18.00\n16/02/2021 dalle ore 9.00 alle ore 13.00 / dalle ore 14.00 alle ore 18.00\n23/02/2021 dalle ore 9.00 alle ore 13.00 / dalle ore 14.00 alle ore 18.00
URL:https://sinthema.info/evento/corso-rspp-datore-di-lavoro-rischio-medio-8/
LOCATION:Videoconferenza\, Italia
CATEGORIES:Formazione,Sicurezza
END:VEVENT
BEGIN:VEVENT
DTSTART;VALUE=DATE:20210223
DTEND;VALUE=DATE:20210224
DTSTAMP:20260420T102358
CREATED:20210125T075027Z
LAST-MODIFIED:20210125T075027Z
UID:26027-1614038400-1614124799@sinthema.info
SUMMARY:Corso RLS
DESCRIPTION:Corso da 32 ore\, in modalità videoconferenza. \n02/02/2021 dalle ore 9.00 alle ore 13.00 / dalle ore 14.00 alle ore 18.00\n09/02/2021 dalle ore 9.00 alle ore 13.00 / dalle ore 14.00 alle ore 18.00\n16/02/2021 dalle ore 9.00 alle ore 13.00 / dalle ore 14.00 alle ore 18.00\n23/02/2021 dalle ore 9.00 alle ore 13.00 / dalle ore 14.00 alle ore 18.00
URL:https://sinthema.info/evento/corso-rls-10/
LOCATION:Videoconferenza\, Italia
CATEGORIES:Formazione,Sicurezza
END:VEVENT
BEGIN:VEVENT
DTSTART;TZID=Europe/Rome:20210217T090000
DTEND;TZID=Europe/Rome:20210217T130000
DTSTAMP:20260420T102358
CREATED:20210125T150703Z
LAST-MODIFIED:20210125T150703Z
UID:26260-1613552400-1613566800@sinthema.info
SUMMARY:Corso PES PAV
DESCRIPTION:Corso da 16 ore\, in modalità videoconferenza. \n09/02/2021 dalle ore 9.00 alle ore 13.00\n10/02/2021 dalle ore 9.00 alle ore 13.00\n16/02/2021 dalle ore 9.00 alle ore 13.00\n17/02/2021 dalle ore 9.00 alle ore 13.00
URL:https://sinthema.info/evento/corso-pes-pav-4/
LOCATION:Videoconferenza\, Italia
CATEGORIES:Formazione,Sicurezza
END:VEVENT
BEGIN:VEVENT
DTSTART;TZID=Europe/Rome:20210216T090000
DTEND;TZID=Europe/Rome:20210216T130000
DTSTAMP:20260420T102358
CREATED:20210125T150638Z
LAST-MODIFIED:20210125T150638Z
UID:26258-1613466000-1613480400@sinthema.info
SUMMARY:Corso PES PAV
DESCRIPTION:Corso da 16 ore\, in modalità videoconferenza. \n09/02/2021 dalle ore 9.00 alle ore 13.00\n10/02/2021 dalle ore 9.00 alle ore 13.00\n16/02/2021 dalle ore 9.00 alle ore 13.00\n17/02/2021 dalle ore 9.00 alle ore 13.00
URL:https://sinthema.info/evento/corso-pes-pav-3/
LOCATION:Videoconferenza\, Italia
CATEGORIES:Formazione,Sicurezza
END:VEVENT
BEGIN:VEVENT
DTSTART;TZID=Europe/Rome:20210216T090000
DTEND;TZID=Europe/Rome:20210216T130000
DTSTAMP:20260420T102358
CREATED:20210125T132001Z
LAST-MODIFIED:20210125T132001Z
UID:26178-1613466000-1613480400@sinthema.info
SUMMARY:Formazione Specifica Lavoratori rischio medio
DESCRIPTION:Corso da 8 ore\, in modalità videoconferenza. \n09/02/2021 dalle ore 9.00 alle ore 13.00\n16/02/2021 dalle ore 9.00 alle ore 13.00
URL:https://sinthema.info/evento/formazione-specifica-lavoratori-rischio-medio-3/
LOCATION:Videoconferenza\, Italia
CATEGORIES:Formazione,Sicurezza
END:VEVENT
BEGIN:VEVENT
DTSTART;VALUE=DATE:20210216
DTEND;VALUE=DATE:20210217
DTSTAMP:20260420T102358
CREATED:20210125T132156Z
LAST-MODIFIED:20210125T132156Z
UID:26182-1613433600-1613519999@sinthema.info
SUMMARY:Formazione Specifica Lavoratori rischio alto
DESCRIPTION:Corso da 12 ore\, in modalità videoconferenza. \n09/02/2021 dalle ore 9.00 alle ore 13.00\n16/02/2021 dalle ore 9.00 alle ore 13.00 / dalle ore 14.00 alle ore 18.00
URL:https://sinthema.info/evento/formazione-specifica-lavoratori-rischio-alto-3/
LOCATION:Videoconferenza\, Italia
CATEGORIES:Formazione,Sicurezza
END:VEVENT
BEGIN:VEVENT
DTSTART;VALUE=DATE:20210216
DTEND;VALUE=DATE:20210217
DTSTAMP:20260420T102358
CREATED:20210125T085012Z
LAST-MODIFIED:20210125T085012Z
UID:26114-1613433600-1613519999@sinthema.info
SUMMARY:Corso RSPP Datore di Lavoro rischio alto
DESCRIPTION:Corso da 48 ore\, in modalità videoconferenza. \n02/02/2021 dalle ore 9.00 alle ore 13.00 / dalle ore 14.00 alle ore 18.00\n09/02/2021 dalle ore 9.00 alle ore 13.00 / dalle ore 14.00 alle ore 18.00\n16/02/2021 dalle ore 9.00 alle ore 13.00 / dalle ore 14.00 alle ore 18.00\n23/02/2021 dalle ore 9.00 alle ore 13.00 / dalle ore 14.00 alle ore 18.00\n02/03/2021 dalle ore 9.00 alle ore 13.00 / dalle ore 14.00 alle ore 18.00\n09/03/2021 dalle ore 9.00 alle ore 13.00 / dalle ore 14.00 alle ore 18.00
URL:https://sinthema.info/evento/corso-rspp-datore-di-lavoro-rischio-alto-10/
LOCATION:Videoconferenza\, Italia
CATEGORIES:Formazione,Sicurezza
END:VEVENT
BEGIN:VEVENT
DTSTART;VALUE=DATE:20210216
DTEND;VALUE=DATE:20210217
DTSTAMP:20260420T102358
CREATED:20210125T082527Z
LAST-MODIFIED:20210125T082527Z
UID:26081-1613433600-1613519999@sinthema.info
SUMMARY:Corso RSPP Datore di Lavoro rischio medio
DESCRIPTION:Corso da 32 ore\, in modalità videoconferenza. \n02/02/2021 dalle ore 9.00 alle ore 13.00 / dalle ore 14.00 alle ore 18.00\n09/02/2021 dalle ore 9.00 alle ore 13.00 / dalle ore 14.00 alle ore 18.00\n16/02/2021 dalle ore 9.00 alle ore 13.00 / dalle ore 14.00 alle ore 18.00\n23/02/2021 dalle ore 9.00 alle ore 13.00 / dalle ore 14.00 alle ore 18.00
URL:https://sinthema.info/evento/corso-rspp-datore-di-lavoro-rischio-medio-7/
LOCATION:Videoconferenza\, Italia
CATEGORIES:Formazione,Sicurezza
END:VEVENT
BEGIN:VEVENT
DTSTART;VALUE=DATE:20210216
DTEND;VALUE=DATE:20210217
DTSTAMP:20260420T102358
CREATED:20210125T075000Z
LAST-MODIFIED:20210125T075000Z
UID:26025-1613433600-1613519999@sinthema.info
SUMMARY:Corso RLS
DESCRIPTION:Corso da 32 ore\, in modalità videoconferenza. \n02/02/2021 dalle ore 9.00 alle ore 13.00 / dalle ore 14.00 alle ore 18.00\n09/02/2021 dalle ore 9.00 alle ore 13.00 / dalle ore 14.00 alle ore 18.00\n16/02/2021 dalle ore 9.00 alle ore 13.00 / dalle ore 14.00 alle ore 18.00\n23/02/2021 dalle ore 9.00 alle ore 13.00 / dalle ore 14.00 alle ore 18.00
URL:https://sinthema.info/evento/corso-rls-9/
LOCATION:Videoconferenza\, Italia
CATEGORIES:Formazione,Sicurezza
END:VEVENT
BEGIN:VEVENT
DTSTART;TZID=Europe/Rome:20210212T090000
DTEND;TZID=Europe/Rome:20210212T160000
DTSTAMP:20260420T102358
CREATED:20210125T162150Z
LAST-MODIFIED:20210125T162215Z
UID:26372-1613120400-1613145600@sinthema.info
SUMMARY:Aggiornamento RSPP Datore di Lavoro rischio alto
DESCRIPTION:Corso da 14 ore\, in modalità videoconferenza. \n11/02/2021 dalle ore 9.00 alle ore 13.00 / dalle ore 14.00 alle ore 18.00\n12/02/2021 dalle ore 9.00 alle ore 13.00 / dalle ore 14.00 alle ore 16.
URL:https://sinthema.info/evento/26372/
LOCATION:Videoconferenza\, Italia
CATEGORIES:Formazione,Sicurezza
END:VEVENT
BEGIN:VEVENT
DTSTART;TZID=Europe/Rome:20210212T090000
DTEND;TZID=Europe/Rome:20210212T110000
DTSTAMP:20260420T102358
CREATED:20210125T161120Z
LAST-MODIFIED:20210125T161120Z
UID:26346-1613120400-1613127600@sinthema.info
SUMMARY:Aggiornamento RSPP Datore di Lavoro rischio medio
DESCRIPTION:Corso da 10 ore\, in modalità videoconferenza. \n11/02/2021 dalle ore 9.00 alle ore 13.00 / dalle ore 14.00 alle ore 18.00\n12/02/2021 dalle ore 9.00 alle ore 11.00
URL:https://sinthema.info/evento/aggiornamento-rspp-datore-di-lavoro-rischio-medio-4/
LOCATION:Videoconferenza\, Italia
CATEGORIES:Formazione,Sicurezza
END:VEVENT
BEGIN:VEVENT
DTSTART;TZID=Europe/Rome:20210211T090000
DTEND;TZID=Europe/Rome:20210211T160000
DTSTAMP:20260420T102358
CREATED:20210125T160425Z
LAST-MODIFIED:20210125T160425Z
UID:26332-1613034000-1613059200@sinthema.info
SUMMARY:Aggiornamento RSPP Datore di Lavoro rischio basso
DESCRIPTION:Corso da 6 ore\, in modalità videoconferenza. \n11/02/2021 dalle ore 9.00 alle ore 13.00 / dalle ore 14.00 alle ore 16.00
URL:https://sinthema.info/evento/aggiornamento-rspp-datore-di-lavoro-rischio-basso-3/
LOCATION:Videoconferenza\, Italia
CATEGORIES:Formazione,Sicurezza
END:VEVENT
BEGIN:VEVENT
DTSTART;TZID=Europe/Rome:20210211T090000
DTEND;TZID=Europe/Rome:20210211T160000
DTSTAMP:20260420T102358
CREATED:20210125T160013Z
LAST-MODIFIED:20210125T160013Z
UID:26320-1613034000-1613059200@sinthema.info
SUMMARY:Aggiornamento Lavoratori
DESCRIPTION:Corso da 6 ore\, in modalità videoconferenza. \n11/02/2021 dalle ore 9.00 alle ore 13.00 / dalle ore 14.00 alle ore 16.00
URL:https://sinthema.info/evento/aggiornamento-lavoratori-3/
LOCATION:Videoconferenza\, Italia
CATEGORIES:Formazione,Sicurezza
END:VEVENT
BEGIN:VEVENT
DTSTART;TZID=Europe/Rome:20210211T090000
DTEND;TZID=Europe/Rome:20210211T160000
DTSTAMP:20260420T102358
CREATED:20210125T154255Z
LAST-MODIFIED:20210125T154255Z
UID:26291-1613034000-1613059200@sinthema.info
SUMMARY:Aggiornamento Preposti
DESCRIPTION:Corso da 6 ore\, in modalità videoconferenza. \n11/02/2021 dalle ore 9.00 alle ore 13.00 / dalle ore 14.00 alle ore 16.00
URL:https://sinthema.info/evento/aggiornamento-preposti-4/
LOCATION:Videoconferenza\, Italia
CATEGORIES:Formazione,Sicurezza
END:VEVENT
BEGIN:VEVENT
DTSTART;TZID=Europe/Rome:20210211T090000
DTEND;TZID=Europe/Rome:20210211T130000
DTSTAMP:20260420T102358
CREATED:20210125T153159Z
LAST-MODIFIED:20210125T153159Z
UID:26267-1613034000-1613048400@sinthema.info
SUMMARY:Aggiornamento RLS - aziende
DESCRIPTION:Corso da 4 ore\, in modalità videoconferenza. \n11/02/2021 dalle ore 9.00 alle ore 13.00
URL:https://sinthema.info/evento/aggiornamento-rls-aziende/
LOCATION:Videoconferenza\, Italia
CATEGORIES:Formazione,Sicurezza
END:VEVENT
BEGIN:VEVENT
DTSTART;TZID=Europe/Rome:20210211T083000
DTEND;TZID=Europe/Rome:20210211T160000
DTSTAMP:20260420T102359
CREATED:20210125T155515Z
LAST-MODIFIED:20210125T155515Z
UID:26308-1613032200-1613059200@sinthema.info
SUMMARY:Aggiornamento Dirigenti per la Sicurezza
DESCRIPTION:Corso da 6 ore\, in modalità videoconferenza. \n11/02/2021 dalle ore 9.00 alle ore 13.00 / dalle ore 14.00 alle ore 16.00
URL:https://sinthema.info/evento/aggiornamento-dirigenti-per-la-sicurezza-3/
LOCATION:Videoconferenza\, Italia
CATEGORIES:Formazione,Sicurezza
END:VEVENT
BEGIN:VEVENT
DTSTART;VALUE=DATE:20210211
DTEND;VALUE=DATE:20210212
DTSTAMP:20260420T102359
CREATED:20210125T162117Z
LAST-MODIFIED:20210125T162117Z
UID:26370-1613001600-1613087999@sinthema.info
SUMMARY:Aggiornamento RSPP Datore di Lavoro rischio alto
DESCRIPTION:Corso da 14 ore\, in modalità videoconferenza. \n11/02/2021 dalle ore 9.00 alle ore 13.00 / dalle ore 14.00 alle ore 18.00\n12/02/2021 dalle ore 9.00 alle ore 13.00 / dalle ore 14.00 alle ore 16.00
URL:https://sinthema.info/evento/aggiornamento-rspp-datore-di-lavoro-rischio-alto-4/
LOCATION:Videoconferenza\, Italia
CATEGORIES:Formazione,Sicurezza
END:VEVENT
BEGIN:VEVENT
DTSTART;VALUE=DATE:20210211
DTEND;VALUE=DATE:20210212
DTSTAMP:20260420T102359
CREATED:20210125T161040Z
LAST-MODIFIED:20210125T161040Z
UID:26344-1613001600-1613087999@sinthema.info
SUMMARY:Aggiornamento RSPP Datore di Lavoro rischio medio
DESCRIPTION:Corso da 10 ore\, in modalità videoconferenza. \n11/02/2021 dalle ore 9.00 alle ore 13.00 / dalle ore 14.00 alle ore 18.00\n12/02/2021 dalle ore 9.00 alle ore 11.00
URL:https://sinthema.info/evento/aggiornamento-rspp-datore-di-lavoro-rischio-medio-3/
LOCATION:Videoconferenza\, Italia
CATEGORIES:Formazione,Sicurezza
END:VEVENT
BEGIN:VEVENT
DTSTART;VALUE=DATE:20210211
DTEND;VALUE=DATE:20210212
DTSTAMP:20260420T102359
CREATED:20210125T153823Z
LAST-MODIFIED:20210125T153823Z
UID:26279-1613001600-1613087999@sinthema.info
SUMMARY:Aggiornamento RLS - aziende >50 lavoratori
DESCRIPTION:Corso da 8 ore\, in modalità videoconferenza. \n11/02/2021 dalle ore 9.00 alle ore 13.00 / dalle ore 14.00 alle ore 18.00
URL:https://sinthema.info/evento/aggiornamento-rls-aziende-50-lavoratori/
LOCATION:Videoconferenza\, Italia
CATEGORIES:Formazione,Sicurezza
END:VEVENT
BEGIN:VEVENT
DTSTART;TZID=Europe/Rome:20210210T090000
DTEND;TZID=Europe/Rome:20210210T130000
DTSTAMP:20260420T102359
CREATED:20210125T150613Z
LAST-MODIFIED:20210125T150613Z
UID:26256-1612947600-1612962000@sinthema.info
SUMMARY:Corso PES PAV
DESCRIPTION:Corso da 16 ore\, in modalità videoconferenza. \n09/02/2021 dalle ore 9.00 alle ore 13.00\n10/02/2021 dalle ore 9.00 alle ore 13.00\n16/02/2021 dalle ore 9.00 alle ore 13.00\n17/02/2021 dalle ore 9.00 alle ore 13.00
URL:https://sinthema.info/evento/corso-pes-pav-2/
LOCATION:Videoconferenza\, Italia
CATEGORIES:Formazione,Sicurezza
END:VEVENT
BEGIN:VEVENT
DTSTART;TZID=Europe/Rome:20210209T090000
DTEND;TZID=Europe/Rome:20210209T130000
DTSTAMP:20260420T102359
CREATED:20210125T150550Z
LAST-MODIFIED:20210125T150550Z
UID:26254-1612861200-1612875600@sinthema.info
SUMMARY:Corso PES PAV
DESCRIPTION:Corso da 16 ore\, in modalità videoconferenza. \n09/02/2021 dalle ore 9.00 alle ore 13.00\n10/02/2021 dalle ore 9.00 alle ore 13.00\n16/02/2021 dalle ore 9.00 alle ore 13.00\n17/02/2021 dalle ore 9.00 alle ore 13.00
URL:https://sinthema.info/evento/corso-pes-pav/
LOCATION:Videoconferenza\, Italia
CATEGORIES:Formazione,Sicurezza
END:VEVENT
BEGIN:VEVENT
DTSTART;TZID=Europe/Rome:20210209T090000
DTEND;TZID=Europe/Rome:20210209T130000
DTSTAMP:20260420T102359
CREATED:20210125T132124Z
LAST-MODIFIED:20210125T132124Z
UID:26180-1612861200-1612875600@sinthema.info
SUMMARY:Formazione Specifica Lavoratori rischio alto
DESCRIPTION:Corso da 12 ore\, in modalità videoconferenza. \n09/02/2021 dalle ore 9.00 alle ore 13.00\n16/02/2021 dalle ore 9.00 alle ore 13.00 / dalle ore 14.00 alle ore 18.00
URL:https://sinthema.info/evento/formazione-specifica-lavoratori-rischio-alto-2/
LOCATION:Videoconferenza\, Italia
CATEGORIES:Formazione,Sicurezza
END:VEVENT
BEGIN:VEVENT
DTSTART;TZID=Europe/Rome:20210209T090000
DTEND;TZID=Europe/Rome:20210209T130000
DTSTAMP:20260420T102359
CREATED:20210125T131919Z
LAST-MODIFIED:20210125T131919Z
UID:26176-1612861200-1612875600@sinthema.info
SUMMARY:Formazione Specifica Lavoratori rischio medio
DESCRIPTION:Corso da 8 ore\, in modalità videoconferenza. \n09/02/2021 dalle ore 9.00 alle ore 13.00\n16/02/2021 dalle ore 9.00 alle ore 13.00
URL:https://sinthema.info/evento/formazione-specifica-lavoratori-rischio-medio-2/
LOCATION:Videoconferenza\, Italia
CATEGORIES:Formazione,Sicurezza
END:VEVENT
BEGIN:VEVENT
DTSTART;TZID=Europe/Rome:20210209T090000
DTEND;TZID=Europe/Rome:20210209T130000
DTSTAMP:20260420T102359
CREATED:20210125T131226Z
LAST-MODIFIED:20210125T131804Z
UID:26174-1612861200-1612875600@sinthema.info
SUMMARY:Formazione Specifica Lavoratori rischio basso
DESCRIPTION:Corso da 4 ore\, in modalità videoconferenza. \n09/02/2021 dalle ore 9.00 alle ore 13.00
URL:https://sinthema.info/evento/formazione-specifica-lavoratori-rischio-basso-2/
LOCATION:Videoconferenza\, Italia
CATEGORIES:Formazione,Sicurezza
END:VEVENT
END:VCALENDAR